BEGIN:VCALENDAR
VERSION:2.0
PRODID:-//NADI Kampung Tualang Sekah - ECPv6.15.13.1//NONSGML v1.0//EN
CALSCALE:GREGORIAN
METHOD:PUBLISH
X-WR-CALNAME:NADI Kampung Tualang Sekah
X-ORIGINAL-URL:https://kgtualangsekah.nadi.my
X-WR-CALDESC:Events for NADI Kampung Tualang Sekah
REFRESH-INTERVAL;VALUE=DURATION:PT1H
X-Robots-Tag:noindex
X-PUBLISHED-TTL:PT1H
BEGIN:VTIMEZONE
TZID:Asia/Kuala_Lumpur
BEGIN:STANDARD
TZOFFSETFROM:+0800
TZOFFSETTO:+0800
TZNAME:+08
DTSTART:20250101T000000
END:STANDARD
END:VTIMEZONE
BEGIN:VEVENT
DTSTART;TZID=Asia/Kuala_Lumpur:20260423T100000
DTEND;TZID=Asia/Kuala_Lumpur:20260423T120000
DTSTAMP:20260421T165815
CREATED:20260408T094633Z
LAST-MODIFIED:20260408T094633Z
UID:6332-1776938400-1776945600@kgtualangsekah.nadi.my
SUMMARY:NADIPreneur : Perancangan Kewangan
DESCRIPTION:NADIPreneur : Perancangan Kewangan
URL:https://kgtualangsekah.nadi.my/event/nadipreneur-perancangan-kewangan/
LOCATION:NADI Kg Tualang Sekah\, Kampar\, Perak\, 31700\, Malaysia
END:VEVENT
BEGIN:VEVENT
DTSTART;TZID=Asia/Kuala_Lumpur:20260425T100000
DTEND;TZID=Asia/Kuala_Lumpur:20260425T120000
DTSTAMP:20260421T165815
CREATED:20260408T094715Z
LAST-MODIFIED:20260408T094715Z
UID:6334-1777111200-1777118400@kgtualangsekah.nadi.my
SUMMARY:KidPreneur : Pemasaran 2
DESCRIPTION:KidPreneur : Pemasaran 2
URL:https://kgtualangsekah.nadi.my/event/kidpreneur-pemasaran-2/
LOCATION:NADI Kg Tualang Sekah\, Kampar\, Perak\, 31700\, Malaysia
END:VEVENT
END:VCALENDAR